BEGIN:VCALENDAR
VERSION:2.0
PRODID:-//QCFI | Quality Circle Forum of India | Quality Concepts - ECPv6.11.0//NONSGML v1.0//EN
CALSCALE:GREGORIAN
METHOD:PUBLISH
X-WR-CALNAME:QCFI | Quality Circle Forum of India | Quality Concepts
X-ORIGINAL-URL:https://qcfi.in
X-WR-CALDESC:Events for QCFI | Quality Circle Forum of India | Quality Concepts
REFRESH-INTERVAL;VALUE=DURATION:PT1H
X-Robots-Tag:noindex
X-PUBLISHED-TTL:PT1H
BEGIN:VTIMEZONE
TZID:Asia/Dili
BEGIN:STANDARD
TZOFFSETFROM:+0900
TZOFFSETTO:+0900
TZNAME:+09
DTSTART:20250101T000000
END:STANDARD
END:VTIMEZONE
BEGIN:VEVENT
DTSTART;TZID=Asia/Dili:20250913T080000
DTEND;TZID=Asia/Dili:20250914T170000
DTSTAMP:20260419T232307
CREATED:20250710T063740Z
LAST-MODIFIED:20250717T085821Z
UID:8443-1757750400-1757869200@qcfi.in
SUMMARY:7th Chapter Convention on Quality Concepts-2025 by QCFI Bhubaneswar Chapter on 13th & 14th September\, 2025.
DESCRIPTION:Greetings from QCFI Bhubaneswar Chapter !! \nWe are pleased to invite your esteemed organization to participate in the Chapter Convention on Quality Concepts (CCQC-2025)\, scheduled to be held in Bhubaneswar. \nDate: 13th & 14th September\, 2025\nVenue: Silicon University\, near DLF cybercity\,Silicon hills\, Patia\,Bhubaneswar\nView and Download the Brochure \nAbout the Program:\nCCQC-2025 provides a unique platform for organizations to showcase their quality initiatives\, share best practices\, and learn from the experiences of others. It’s an excellent opportunity for your teams to present their quality concepts\, including Quality Circles\, Integrated Safety Circle\, Lean\, Six Sigma\, 5S\, Kaizen\, and other continuous improvement projects.\nWe believe your participation will not only contribute to the success of the convention but also offer valuable exposure and learning for your employees. Detailed information regarding themes\, registration\, and participation guidelines can be found in the attached brochure.\nWe look forward to your organization’s active involvement in CCQC-2025. \nFor any enquiry please contact:\nQUALITY CIRCLE FORUM OF INDIA\, BHUBANESWARMR\,\nR.S.DAS SECRETARY\,\nPhone: 9348665311\, 9437069347\, 9437314864\nEmail-qcfibhubaneswarchapter@gmail.com
URL:https://qcfi.in/event/ccqc-2025/
ATTACH;FMTTYPE=image/jpeg:https://qcfi.in/wp-content/uploads/2025/07/1st-page-CCQC-2025-Bhubaneswar_page-0001-e1752742685638.jpg
END:VEVENT
BEGIN:VEVENT
DTSTART;TZID=Asia/Dili:20250913T080000
DTEND;TZID=Asia/Dili:20250914T180000
DTSTAMP:20260419T232307
CREATED:20250618T114918Z
LAST-MODIFIED:20250830T063625Z
UID:8348-1757750400-1757872800@qcfi.in
SUMMARY:7th Guwahati Sub Chapter's CCQC 2025 on 13th & 14th September\, 2025 at Tool Room & Training Centre (TRTC)\, Amingaon\, Guwahati
DESCRIPTION:It is our pleasure to invite you at our Chapter Convention which will be held at Tool Room & Training Centre (TRTC)\, Amingaon Industrial Area\, Amingaon\, Guwahati – 781031 on Saturday 13th & Sunday 14th Sept. 2025. You are requested to kindly nominate your teams in the convention. \nVenue: Tool Room & Training Centre (TRTC)\, Amingaon Industrial Area\, Amingaon\, Guwahati – 781031\nDates: 13th & 14th September\, 2025\nView & Download the Program brochure \nOnly member organizations of QCFI can participate in the case study presentation and other competitions\, after registration. \nFor registration contact:\nSiromani Rajkhowa\nJoint Secretary\, QCFI Guwahati Sub-Chapter &\nPlant Head\, The Supreme Industries Limited\nExport Promotion industrial Park\nAmingaon\, North Guwahati\,\nAssam-781031\nMobile: +91 75780 12031\nMail: qcfi_ghy@yahoo.com
URL:https://qcfi.in/event/7th-guwahati-sub-chapters-ccqc-2025-on-13th-14th-september-2025-at-tool-room-training-centre-trtc-amingaon-guwahati/
CATEGORIES:Chapter Events
ATTACH;FMTTYPE=image/png:https://qcfi.in/wp-content/uploads/2025/06/7thChapter_Convention_Guwahati_sub_chapter.png
END:VEVENT
BEGIN:VEVENT
DTSTART;TZID=Asia/Dili:20250914T080000
DTEND;TZID=Asia/Dili:20250914T170000
DTSTAMP:20260419T232307
CREATED:20250722T115244Z
LAST-MODIFIED:20250722T115244Z
UID:8600-1757836800-1757869200@qcfi.in
SUMMARY:QCFI Nagpur Chapter\, Organizing 36th Chapter Convention on Quality Concepts\, CCQC-2025
DESCRIPTION:Greetings from QCFI\, Nagpur chapter! \nQCFI Nagpur Chapter is organizing 36th Chapter Convention on Quality Concepts\, CCQC-2025.\nDate: Sunday 14th September 2025\, 7.00 am onwards\nVenue: Shri Ramdeobaba University\, Nagpur\, Ramdeo Tekdi\, Gittikhadan\,Katol Road\, Nagpur – 440 013 (M.S.) (India)\nView and Download the Brochure\nRegistration form \nFor any Enquiry\, please contact:\nMr. Vivek Joshi\nPhone: 9823278003\nEmail: qcfinagpur@gmail.com
URL:https://qcfi.in/event/qcfi-nagpur-ccqc-2025/
ATTACH;FMTTYPE=image/jpeg:https://qcfi.in/wp-content/uploads/2025/07/BRO-CCQC-2025-1_page-0001-e1753185144842.jpg
END:VEVENT
BEGIN:VEVENT
DTSTART;TZID=Asia/Dili:20250914T080000
DTEND;TZID=Asia/Dili:20250914T180000
DTSTAMP:20260419T232307
CREATED:20250605T064323Z
LAST-MODIFIED:20250910T052515Z
UID:8315-1757836800-1757872800@qcfi.in
SUMMARY:QCFI Bengaluru Chapter announces 34th Chapter Convention on Quality Concepts On Sunday\, 14 September 2025
DESCRIPTION:We wish to inform you that CCQC 2025 (Physical Participation) will be held on 14th September 2025 at T. John College of Engineering\, Bannerghatta Road\, Bengaluru. \nDate: 14th September\, 2025\nVenue: T. JOHN INSTITUTE OF TECHNOLOGY\, BENGALURU\n(LAST DATE FOR SUBMISSION OF CASE STUDIES 02 September\, 2025) \nView and download the convention brochure \nYou are requested to prepare your teams for active participation in showcasing their achievements in various activities like QC\, Six Sigma\, LQC\, LSC\, Kaizen Display etc….. \nFor any Enquiry\, Please Contact\nQUALITY CIRCLE FORUM OF INDIA\nBengaluru Chapter\nNo.22-B\, ‘A’ Block\, 2nd Floor\, Brigade MM Industrial Complex\nK.R. Road\, (Near Yediyur Circle)\, Bengaluru – 560 070.\nPhone : (080) 2676 8289 | 8762 33 7544| E-Mail : qcfiblr@gmail.com \nContact Persons\nSri B. Thej Kumar – 99005 09685\nSri Girish R. – 72597 68721\nSri T.A. Murali – 97417 83948\nSri Manjunath H. S. – 97409 00554\nSmt. Smitha Venkatesh – 94488 41500\nSri Sathyan G .S. – 96870 94949\nSri Sudhakar Bagalkoti – 98443 84343 \n 
URL:https://qcfi.in/event/qcfibengaluru_ccqc2025/
CATEGORIES:Chapter Events
ATTACH;FMTTYPE=image/png:https://qcfi.in/wp-content/uploads/2025/06/QCFI_Hyderabad.png
END:VEVENT
END:VCALENDAR