BEGIN:VCALENDAR
VERSION:2.0
PRODID:-//QCFI | Quality Circle Forum of India | Quality Concepts - ECPv6.11.0//NONSGML v1.0//EN
CALSCALE:GREGORIAN
METHOD:PUBLISH
X-ORIGINAL-URL:https://qcfi.in
X-WR-CALDESC:Events for QCFI | Quality Circle Forum of India | Quality Concepts
REFRESH-INTERVAL;VALUE=DURATION:PT1H
X-Robots-Tag:noindex
X-PUBLISHED-TTL:PT1H
BEGIN:VTIMEZONE
TZID:Asia/Dili
BEGIN:STANDARD
TZOFFSETFROM:+0900
TZOFFSETTO:+0900
TZNAME:+09
DTSTART:20250101T000000
END:STANDARD
END:VTIMEZONE
BEGIN:VEVENT
DTSTART;TZID=Asia/Dili:20250919T080000
DTEND;TZID=Asia/Dili:20250920T170000
DTSTAMP:20260420T025140
CREATED:20250722T113234Z
LAST-MODIFIED:20250813T092127Z
UID:8596-1758268800-1758387600@qcfi.in
SUMMARY:24th Chapter Convention on Quality Concepts on 19th-20th September 2025 by QCFI Rajsamand Chapter
DESCRIPTION:Greetings from Quality Circle Forum of India\, Rajsamand Chapter!! \nWe are pleased to announce that QCFI\, Rajsamand Chapter is conducting 24th Chapter Convention on Quality Concepts on 19th-20th September 2025 at Udaipur(Rajasthan).\nDate: 19th-20th September 2025\nVenue: Udaipur Chamber of Commerce & Industry (UCCI) Chamber Marg\, Mewar Industrial Area- Madri\, UDAIPUR (Rajasthan) Pin: 313003\nView and Download the Brochure \nFor any enquiry please contact:\nDr. NK Sharma- 9511560069\, 7023960069\,\nMr. DC Paneri- 9001294931\,\nDr. SK Jagasia- 7046017171\, 9951938877\,\nMr. Narayan Mali- 8949674732\, 9468656379.
URL:https://qcfi.in/event/ccqc2025-3/
ATTACH;FMTTYPE=image/jpeg:https://qcfi.in/wp-content/uploads/2025/07/CCQC-2025-19-20-Sep-2025-1-1_page-0001-e1755075180969.jpg
END:VEVENT
END:VCALENDAR