BEGIN:VCALENDAR
VERSION:2.0
PRODID:-//QCFI | Quality Circle Forum of India | Quality Concepts - ECPv6.11.0//NONSGML v1.0//EN
CALSCALE:GREGORIAN
METHOD:PUBLISH
X-WR-CALNAME:QCFI | Quality Circle Forum of India | Quality Concepts
X-ORIGINAL-URL:https://qcfi.in
X-WR-CALDESC:Events for QCFI | Quality Circle Forum of India | Quality Concepts
REFRESH-INTERVAL;VALUE=DURATION:PT1H
X-Robots-Tag:noindex
X-PUBLISHED-TTL:PT1H
BEGIN:VTIMEZONE
TZID:Asia/Dili
BEGIN:STANDARD
TZOFFSETFROM:+0900
TZOFFSETTO:+0900
TZNAME:+09
DTSTART:20250101T000000
END:STANDARD
END:VTIMEZONE
BEGIN:VEVENT
DTSTART;TZID=Asia/Dili:20250923T080000
DTEND;TZID=Asia/Dili:20250923T170000
DTSTAMP:20260420T092500
CREATED:20250723T104446Z
LAST-MODIFIED:20250723T104446Z
UID:8613-1758614400-1758646800@qcfi.in
SUMMARY:38th Chapter Convention on Quality Concepts - CCQC 2025 by QCFI Kolkata Chapter
DESCRIPTION:Greetings from QCFI\, Kolkata Chapter!! \nWe cordially invite all the member organizations of QCFI across India to participate in the Chapter Convention on Quality Concepts – CCQC 2025 organized by QCFI\, Kolkata Chapter.\nDate: 23rd September 2025\nVenue: Taj Bengal\, Kolkata\nView and Download the Brochure \nFor any Enquiry please contact:\nQuality Circle Forum of India Kolkata Chapter\nC/o. The Association of Engineers\, India\n24\, N. S. Road\, 1st Floor\nKolkata – 700 001.\nTelephone No: 033-2242-8165; 033-2230-6714\nemail : qcfikol@bharatmail.co.in\, qcfikol@gmail.com
URL:https://qcfi.in/event/kccqc-25/
ATTACH;FMTTYPE=image/jpeg:https://qcfi.in/wp-content/uploads/2025/07/Kolkata-CCQC-2025-1_page-0001-e1753267473170.jpg
END:VEVENT
END:VCALENDAR