BEGIN:VCALENDAR
VERSION:2.0
PRODID:-//QCFI | Quality Circle Forum of India | Quality Concepts - ECPv6.11.0//NONSGML v1.0//EN
CALSCALE:GREGORIAN
METHOD:PUBLISH
X-WR-CALNAME:QCFI | Quality Circle Forum of India | Quality Concepts
X-ORIGINAL-URL:https://qcfi.in
X-WR-CALDESC:Events for QCFI | Quality Circle Forum of India | Quality Concepts
REFRESH-INTERVAL;VALUE=DURATION:PT1H
X-Robots-Tag:noindex
X-PUBLISHED-TTL:PT1H
BEGIN:VTIMEZONE
TZID:Asia/Dili
BEGIN:STANDARD
TZOFFSETFROM:+0900
TZOFFSETTO:+0900
TZNAME:+09
DTSTART:20250101T000000
END:STANDARD
END:VTIMEZONE
BEGIN:VEVENT
DTSTART;TZID=Asia/Dili:20250927T080000
DTEND;TZID=Asia/Dili:20250927T170000
DTSTAMP:20260420T162150
CREATED:20250712T062247Z
LAST-MODIFIED:20250717T093623Z
UID:8473-1758960000-1758992400@qcfi.in
SUMMARY:33rd Convention  Quality Circle Forum of India  Gwalior Chapter on 27th September 2025
DESCRIPTION:Greetings from QCFI Gwalior Chapter !! \nWe are glad to announce CCQC-2025 Gwalior chapter on 27th September\, 2025 in association with Vikrant University. \nDate: 27th September 2025\nVenue: Vikrant University\, Chitora Road\, Ratwai\, Gwalior (M.P)-474006\nView and Download the Brochure \nFor any enquiry please contact:\nThomas Mathew – 9713697501\nAkshaya Bhatnagar – 9977500112\nS.M.Tahir – 7869571718\nDr. Druv Sharma – 9399977580
URL:https://qcfi.in/event/gccqc2025/
ATTACH;FMTTYPE=image/jpeg:https://qcfi.in/wp-content/uploads/2025/07/Brochure-GCCQC-2025-1_page-0001-1-e1752744971910.jpg
END:VEVENT
BEGIN:VEVENT
DTSTART;TZID=Asia/Dili:20250927T080000
DTEND;TZID=Asia/Dili:20250927T170000
DTSTAMP:20260420T162150
CREATED:20250813T091634Z
LAST-MODIFIED:20250814T052353Z
UID:8731-1758960000-1758992400@qcfi.in
SUMMARY:19th Chapter Convention on Quality Concepts by QCFI Jaipur Sub chapter in association with Manipal University\, Jaipur
DESCRIPTION:Greetings from QCFI Jaipur Sub chapter!! \nWe are pleased to announce that QCFI Jaipur Sub chapter is conducting 19th Chapter Convention on Quality Concepts in association with Manipal University\, Jaipur.\nDate: 27th September\, 2025\nVenue: Jaipur-Ajmer Express Highway\, Dehmi Kalan Near GVK Toll Plaza\, Jaipur – 303007 (Rajasthan)\nView and Download the Brochure\nThe convention theme is “Quality Concepts for ATMA NIRBHAR VIKSIT BHARAT” \nFor any enquiry please contact:\nMr. Manoj Meshram: 9414302116\nDr. Anil Sharma: 9414974446\nMr. Rajesh Solanki: 9950010576\nEmail: chairman.qcfijc@gmail.com\, qcfijaipurchapter@gmail.com and mdmanoj2512@gmail.com
URL:https://qcfi.in/event/jccqc25/
ATTACH;FMTTYPE=image/jpeg:https://qcfi.in/wp-content/uploads/2025/08/CCQC-2025-Jaipur-Sub-Chapter-1_page-0001-1-e1755148928488.jpg
END:VEVENT
BEGIN:VEVENT
DTSTART;TZID=Asia/Dili:20250927T080000
DTEND;TZID=Asia/Dili:20250928T170000
DTSTAMP:20260420T162150
CREATED:20250729T101254Z
LAST-MODIFIED:20250729T101516Z
UID:8630-1758960000-1759078800@qcfi.in
SUMMARY:39th Chapter Convention on Quality Concepts (CCQC–2025) by QCFI Mumbai Chapter
DESCRIPTION:Greetings from QCFI Mumbai chapter!\nWe are delighted to announce the 39th Chapter Convention on Quality Concepts (CCQC–2025)\, organized by QCFI Mumbai Chapter.\nDate: 27th & 28th September 2025\nVenue: Zaverben Popatlal Sabhagrah\, Ghatkopar (East)\, Mumbai.\nView and Download the Brochure \nAs part of the convention:\nSuper Gold\, Gold\, Silver\, and Bronze Awards will be conferred based on the evaluation marks of the participating teams.\nSuper Gold & Gold Award winners will be eligible to participate in the upcoming National Convention on Quality Concepts (NCQC–2025) and will be duly recommended by the Mumbai Chapter.  \nThe Convention Brochure and Registration Forms (for QC & OC categories) are attached herewith\, containing all the necessary details.\nQC-Registration-Form\nOC-Registration-Form \nWe encourage all teams to begin preparing their case studies and presentations early to ensure timely submission and a smooth participation process. \nFor any queries\, please contact:\nSubhash Mahadeshwar\nOffice Administrator\,\nQCFI Mumbai Chapter\nTel: 022–2088 8775\n+91-9320382412
URL:https://qcfi.in/event/mccqc2025/
ATTACH;FMTTYPE=image/jpeg:https://qcfi.in/wp-content/uploads/2025/07/MCCQC-2025-Brochure-1_page-0001-e1753784107527.jpg
END:VEVENT
END:VCALENDAR