BEGIN:VCALENDAR
VERSION:2.0
PRODID:-//QCFI | Quality Circle Forum of India | Quality Concepts - ECPv6.11.0//NONSGML v1.0//EN
CALSCALE:GREGORIAN
METHOD:PUBLISH
X-WR-CALNAME:QCFI | Quality Circle Forum of India | Quality Concepts
X-ORIGINAL-URL:https://qcfi.in
X-WR-CALDESC:Events for QCFI | Quality Circle Forum of India | Quality Concepts
REFRESH-INTERVAL;VALUE=DURATION:PT1H
X-Robots-Tag:noindex
X-PUBLISHED-TTL:PT1H
BEGIN:VTIMEZONE
TZID:Asia/Dili
BEGIN:STANDARD
TZOFFSETFROM:+0900
TZOFFSETTO:+0900
TZNAME:+09
DTSTART:20250101T000000
END:STANDARD
END:VTIMEZONE
BEGIN:VEVENT
DTSTART;TZID=Asia/Dili:20251011T080000
DTEND;TZID=Asia/Dili:20251011T170000
DTSTAMP:20260421T015303
CREATED:20250806T114226Z
LAST-MODIFIED:20250806T114719Z
UID:8718-1760169600-1760202000@qcfi.in
SUMMARY:35th Chapter Convention on  QUALITY CONCEPTS (35th MCCQC 2025) organized by QCFI Madurai
DESCRIPTION:Greetings from QCFI Madurai!! \nWe are pleased to announce the 35th Chapter Convention on  QUALITY CONCEPTS (35th MCCQC 2025) organized by QCFI Madurai chapter.\nDate: October 11\, 2025 (Saturday)\nVenue: JJ College of Engineering and Technology Ammapettai\, Tiruchirappalli – 620 009\nView and Download the Brochure \nFor any enquiry please contact:\nMr. Ashraf : 87542 59818\nQCFI Madurai Chapter
URL:https://qcfi.in/event/mccqc25/
ATTACH;FMTTYPE=image/jpeg:https://qcfi.in/wp-content/uploads/2025/08/MCQC-2025-Brochure-Final-1-1_page-0001-e1754480490844.jpg
END:VEVENT
BEGIN:VEVENT
DTSTART;TZID=Asia/Dili:20251011T080000
DTEND;TZID=Asia/Dili:20251012T170000
DTSTAMP:20260421T015303
CREATED:20250901T051432Z
LAST-MODIFIED:20250901T051432Z
UID:8831-1760169600-1760288400@qcfi.in
SUMMARY:16th Chapter Convention on Quality Concepts by QCFI Bhilai chapter on 11th & 12th October 2025
DESCRIPTION:Greetings from QCFI Bhilai chapter \nWe are pleased to announce the 16th Chapter Convention on Quality Concepts(CCQC-25).\nThis year convention theme is “Quality concepts for Atma Nirbhar Viksit Bharat”\nDate: 11th & 12th October 2025\nVenue: Shri Shankaracharya Technical Campus\, Bhilai\nView and Download the Brochure \nFor any query please contact\nQUALITY CIRCLE FORUM OF INDIA\, BHILAI CHAPTER\nG.P.Singh\, Secretary\, QCFI\, Bhilai Chapter\nMobile: 9407981822\nTULIP-275\, Block-A\, Talpuri International Colony\,\nBhilai West\, Dist: Durg (C.G)\, PIN:490009
URL:https://qcfi.in/event/bccqc2025-2/
ATTACH;FMTTYPE=image/jpeg:https://qcfi.in/wp-content/uploads/2025/09/16th-Chapter-convention-broucher-Revised-Final-1_page-0001-e1756703617432.jpg
END:VEVENT
END:VCALENDAR