BEGIN:VCALENDAR
VERSION:2.0
PRODID:-//QCFI | Quality Circle Forum of India | Quality Concepts - ECPv6.11.0//NONSGML v1.0//EN
CALSCALE:GREGORIAN
METHOD:PUBLISH
X-ORIGINAL-URL:https://qcfi.in
X-WR-CALDESC:Events for QCFI | Quality Circle Forum of India | Quality Concepts
REFRESH-INTERVAL;VALUE=DURATION:PT1H
X-Robots-Tag:noindex
X-PUBLISHED-TTL:PT1H
BEGIN:VTIMEZONE
TZID:Asia/Dili
BEGIN:STANDARD
TZOFFSETFROM:+0900
TZOFFSETTO:+0900
TZNAME:+09
DTSTART:20250101T000000
END:STANDARD
END:VTIMEZONE
BEGIN:VEVENT
DTSTART;TZID=Asia/Dili:20251013T080000
DTEND;TZID=Asia/Dili:20251014T170000
DTSTAMP:20260421T045511
CREATED:20250729T103644Z
LAST-MODIFIED:20250729T104708Z
UID:8641-1760342400-1760461200@qcfi.in
SUMMARY:11th Chapter Convention on Quality Concepts (CCQC-2025) by QCFI Tirupati Chapter
DESCRIPTION:Greetings from QCFI Tirupati Chapter !!\nThe convention is being organized with the theme “Quality concepts for Atma Nirbhar Viksit Bharath” .\nDate : 13th & 14th October 2025\nVenue: SV College of Engineering \,Karakambadi Road\,Tirupati.\nLast date for Registration: 30th September 2025\nView and Download the Brochure\nFollowing competitions will be held in CCQC-2025- Case study presentation on Quality circles\, Kaizen\, 5S\, Six Sigma\, Poka Yoke\, Knowledge test\, poster /slogan competition. \nWe look forward to your participation in the Convention to enhance your learning and implement best practices at your organization. Please nominate/register your Quality Circles from your organization for this Convention. \nFor any information & assistance you may call us on\n+91-7396663622 \, +91-9493173159.
URL:https://qcfi.in/event/tccqc2025/
ATTACH;FMTTYPE=image/jpeg:https://qcfi.in/wp-content/uploads/2025/07/TCCQC_2025-1_page-0001-1-e1753785360743.jpg
END:VEVENT
BEGIN:VEVENT
DTSTART;TZID=Asia/Dili:20251013T080000
DTEND;TZID=Asia/Dili:20251014T170000
DTSTAMP:20260421T045511
CREATED:20250818T112051Z
LAST-MODIFIED:20250818T112051Z
UID:8795-1760342400-1760461200@qcfi.in
SUMMARY:35th Chapter Convention on Quality concepts by QCFI Durgapur chapter on 13th and 14th October 2025
DESCRIPTION:Greetings from QCFI Durgapur Chapter!! \nWe are pleased to announce the 35th Chapter Convention on Quality concepts by QCFI Durgapur chapter on 13th and 14th October 2025.\nDate: 13th and 14th October 2025\nVenue: NETAJI BHAWAN\, A-Zone\, Durgapur-713204 \nFor any enquiry please contact\nA. B. Chowdhury Secretary\, QCFI Durgapur Chapter\,\n118\, MoulanaAzadSarani\, CityCentre\,Durgapur-16\nMobile: 9434023320/8967636433\nEmail:qcfidurgapur@gmail.com
URL:https://qcfi.in/event/dccqc25/
ATTACH;FMTTYPE=image/jpeg:https://qcfi.in/wp-content/uploads/2025/08/CCQC-2025Durgapur_Brochure-1_page-0001-e1755515987867.jpg
END:VEVENT
BEGIN:VEVENT
DTSTART;TZID=Asia/Dili:20251013T100000
DTEND;TZID=Asia/Dili:20251014T160000
DTSTAMP:20260421T045511
CREATED:20251008T111112Z
LAST-MODIFIED:20251008T111450Z
UID:8900-1760349600-1760457600@qcfi.in
SUMMARY:Webinar on Value Stream Mapping on 13th & 14th October\,2025 organized by QCFI HQ
DESCRIPTION:Greetings from QCFI HQ!! \nWe are pleased to inform that we are conducting a webinar on Value Stream Mapping.\nDate: 13th & 14th October\,2025\nVenue: Online mode\nView and Download the Brochure\nRegistration link \nThis VSM webinar is designed to help professionals streamline processes\, eliminate waste\, and deliver maximum customer value using Lean Thinking principles.\nLed by industry expert Mr. R. K. Venkata\, a Quality Assurance and Business Excellence Leader with 35+ years of experience and a Six Sigma Black Belt.
URL:https://qcfi.in/event/vsmwebinar/
ATTACH;FMTTYPE=image/png:https://qcfi.in/wp-content/uploads/2025/10/WEBINAR-Value-Stream-Mapping-e-3-e1759921818976.png
END:VEVENT
END:VCALENDAR