BEGIN:VCALENDAR
VERSION:2.0
PRODID:-//QCFI | Quality Circle Forum of India | Quality Concepts - ECPv6.11.0//NONSGML v1.0//EN
CALSCALE:GREGORIAN
METHOD:PUBLISH
X-WR-CALNAME:QCFI | Quality Circle Forum of India | Quality Concepts
X-ORIGINAL-URL:https://qcfi.in
X-WR-CALDESC:Events for QCFI | Quality Circle Forum of India | Quality Concepts
REFRESH-INTERVAL;VALUE=DURATION:PT1H
X-Robots-Tag:noindex
X-PUBLISHED-TTL:PT1H
BEGIN:VTIMEZONE
TZID:Asia/Dili
BEGIN:STANDARD
TZOFFSETFROM:+0900
TZOFFSETTO:+0900
TZNAME:+09
DTSTART:20250101T000000
END:STANDARD
END:VTIMEZONE
BEGIN:VEVENT
DTSTART;TZID=Asia/Dili:20251028T080000
DTEND;TZID=Asia/Dili:20251029T170000
DTSTAMP:20260421T130548
CREATED:20250814T055559Z
LAST-MODIFIED:20251023T060706Z
UID:8742-1761638400-1761757200@qcfi.in
SUMMARY:INDUX 5.0\, India’s first National-level Hackathon on Industry 5.0 and Smart Manufacturing\, spearheaded by the Vikrant University\, QCFI and SenseLive
DESCRIPTION:We are pleased to announce INDUX 5.0\, India’s first National-level Hackathon on Industry 5.0 and Smart Manufacturing\, spearheaded by the Vikrant University\, Quality Circle Forum of India (QCFI) and SenseLive. \nDate: 28th and 29th October 2025 \nVenue: Vikrant University\, Chittora Road\, Gwalior (M.P)\, India \nThis National-level Hackathon will bring together 300+ student teams from across the nation to develop solutions for real-world challenges. The central theme of INDUX 5.0 is “Innovate for Industry\, Build for Bharat”\, with focus areas such as: \n\n\n\nIndustrial Digitalization\nIndustry IoT\nRobotics\nArtificial Intelligence and Machine Learning\n\n\n\n\nIndustry Automation\nEnvironment Health and Safety (EHS)\nDigital Twin\nImage Processing\nSustainability\n\nWe cordially invite your esteemed organization to join INDUX 5.0 as: \nIndustrial Problem Statements Partner\nWe welcome your team to contribute live challenges. These will be taken up by student teams\, mentored by domain experts. The Google form for Problem Statements submission is mentioned below which includes key elements such as context\, expectations\, deliverables\, and technical constraints. \nProblem Statement submission Form\nView and Download the Brochure \nJoin as a Sponsor\nWe welcome organizations eager to lead innovation\, showcase their brand to top tech talent\, and connect with visionaries shaping the future of Industry 5.0. Boost your visibility and talent engagement through customizable sponsorship opportunities. \nLet’s shape the future of Smart Manufacturing and Industry 5.0—together. \nFor any enquiry please contact\nProf. Anand Kumar Singh\,\nDean\, SOET\, Vikrant University\, Gwalior (MP)\nMobile : 7773004155\nWebsite: https://induxhack.com\nEmail: info@induxhack.com \nProf. Aishwarya Singh- 7987459533\nSakshi Bharadwaj- 9682623800\nBilaal Khan- 9302112310
URL:https://qcfi.in/event/induxhackathon/
ATTACH;FMTTYPE=image/jpeg:https://qcfi.in/wp-content/uploads/2025/10/WhatsApp-Image-2025-10-22-at-17.49.53-e1761199117740.jpeg
END:VEVENT
END:VCALENDAR