BEGIN:VCALENDAR
VERSION:2.0
PRODID:-//QCFI | Quality Circle Forum of India | Quality Concepts - ECPv6.11.0//NONSGML v1.0//EN
CALSCALE:GREGORIAN
METHOD:PUBLISH
X-WR-CALNAME:QCFI | Quality Circle Forum of India | Quality Concepts
X-ORIGINAL-URL:https://qcfi.in
X-WR-CALDESC:Events for QCFI | Quality Circle Forum of India | Quality Concepts
REFRESH-INTERVAL;VALUE=DURATION:PT1H
X-Robots-Tag:noindex
X-PUBLISHED-TTL:PT1H
BEGIN:VTIMEZONE
TZID:Asia/Dili
BEGIN:STANDARD
TZOFFSETFROM:+0900
TZOFFSETTO:+0900
TZNAME:+09
DTSTART:20250101T000000
END:STANDARD
END:VTIMEZONE
BEGIN:VEVENT
DTSTART;TZID=Asia/Dili:20251108T080000
DTEND;TZID=Asia/Dili:20251108T170000
DTSTAMP:20260421T211619
CREATED:20250929T102144Z
LAST-MODIFIED:20250929T102144Z
UID:8887-1762588800-1762621200@qcfi.in
SUMMARY:QCFI-Gwalior Chapter Supplementary Convention on 8th November\, 2025
DESCRIPTION:Greetings from QCFI Gwalior chapter!! \nQCFI-Gwalior Chapter announces Supplementary Convention on 8th November\, 2025 in association with Pragati Vidya Peeth School\, Morar\, Gwalior.\nDate: 8th November\, 2025\nVenue: Pragati Vidya Peeth School\, Morar\, Gwalior\nView and Download the Brochure\nTheme: “Quality Concepts for Atma Nirbhar Viksit Bharat” \nFor any enquiry please contact\nThomas Mathew\, Chief Operating Officer-Gwalior Chapter- 9713697501\nAnkit Gupta\, 6267806131\nJaison Mathew\, 9669799376
URL:https://qcfi.in/event/gsc25/
ATTACH;FMTTYPE=image/jpeg:https://qcfi.in/wp-content/uploads/2025/09/Brochure-33rd-GCCQC-2025-Supplementary-Convention-1_page-0001-e1759141259570.jpg
END:VEVENT
END:VCALENDAR