BEGIN:VCALENDAR
VERSION:2.0
PRODID:-//QCFI | Quality Circle Forum of India | Quality Concepts - ECPv6.11.0//NONSGML v1.0//EN
CALSCALE:GREGORIAN
METHOD:PUBLISH
X-WR-CALNAME:QCFI | Quality Circle Forum of India | Quality Concepts
X-ORIGINAL-URL:https://qcfi.in
X-WR-CALDESC:Events for QCFI | Quality Circle Forum of India | Quality Concepts
REFRESH-INTERVAL;VALUE=DURATION:PT1H
X-Robots-Tag:noindex
X-PUBLISHED-TTL:PT1H
BEGIN:VTIMEZONE
TZID:Asia/Dili
BEGIN:STANDARD
TZOFFSETFROM:+0900
TZOFFSETTO:+0900
TZNAME:+09
DTSTART:20250101T000000
END:STANDARD
END:VTIMEZONE
BEGIN:VEVENT
DTSTART;TZID=Asia/Dili:20251117T100000
DTEND;TZID=Asia/Dili:20251117T160000
DTSTAMP:20260422T050823
CREATED:20251105T092709Z
LAST-MODIFIED:20251105T094251Z
UID:8974-1763373600-1763395200@qcfi.in
SUMMARY:Team Building & Collaboration Webinar on 17th & 24th November\, 2025 by Chitra ramani
DESCRIPTION:Greetings from QCFI HQ \nWe are pleased to announce that we are conducting webinar on Team Building & Collaboration on 17th & 24th November\, 2025 by Chitra ramani.\nDate: 17th & 24th November\, 2025\nVenue: Online mode \nView and Download the Brochure\nRegistration link
URL:https://qcfi.in/event/teambuildingnov25/
ATTACH;FMTTYPE=image/jpeg:https://qcfi.in/wp-content/uploads/2025/11/•-Revised-workshops-final_page-0001-e1762335390127.jpg
END:VEVENT
END:VCALENDAR