BEGIN:VCALENDAR
VERSION:2.0
PRODID:-//QCFI | Quality Circle Forum of India | Quality Concepts - ECPv6.11.0//NONSGML v1.0//EN
CALSCALE:GREGORIAN
METHOD:PUBLISH
X-WR-CALNAME:QCFI | Quality Circle Forum of India | Quality Concepts
X-ORIGINAL-URL:https://qcfi.in
X-WR-CALDESC:Events for QCFI | Quality Circle Forum of India | Quality Concepts
REFRESH-INTERVAL;VALUE=DURATION:PT1H
X-Robots-Tag:noindex
X-PUBLISHED-TTL:PT1H
BEGIN:VTIMEZONE
TZID:Asia/Dili
BEGIN:STANDARD
TZOFFSETFROM:+0900
TZOFFSETTO:+0900
TZNAME:+09
DTSTART:20260101T000000
END:STANDARD
END:VTIMEZONE
BEGIN:VEVENT
DTSTART;TZID=Asia/Dili:20260106T100000
DTEND;TZID=Asia/Dili:20260106T160000
DTSTAMP:20260421T231511
CREATED:20260103T090658Z
LAST-MODIFIED:20260103T090658Z
UID:9062-1767693600-1767715200@qcfi.in
SUMMARY:Problem solving methods webinar on 6th January '26 from 10-4 PM by Venkata Ravi Kumar
DESCRIPTION:Greetings from QCFI-HQ!! \nWe are pleased to inform you that we are conducting a webinar on Problem solving methods on 6th January\, 2026 by Venkata Ravi kumar\nDate: 6th January\, 2026\nVenue: Online mode (10 AM to 4 PM)\nView and Download the Brochure\nRegistration link \nLed by industry expert Mr. R. K. Venkata\, a Quality Assurance and Business Excellence Leader with 35+ years of experience and a Six Sigma Black Belt. \nFor any enquiry please contact\nVenkata Ravi: 9480693182\nP.S.Ravi Kumar: 9391647969\nEmail: qcfihq@qcfi.in\, ravi.cumar@qcfi.in
URL:https://qcfi.in/event/probsolvmethods26/
ATTACH;FMTTYPE=image/png:https://qcfi.in/wp-content/uploads/2026/01/Mastering-Structured-Problem-Solving-8D-PDCA-A3-Methodologies-2-e1767431148761.png
END:VEVENT
END:VCALENDAR