BEGIN:VCALENDAR
VERSION:2.0
PRODID:-//QCFI | Quality Circle Forum of India | Quality Concepts - ECPv6.11.0//NONSGML v1.0//EN
CALSCALE:GREGORIAN
METHOD:PUBLISH
X-ORIGINAL-URL:https://qcfi.in
X-WR-CALDESC:Events for QCFI | Quality Circle Forum of India | Quality Concepts
REFRESH-INTERVAL;VALUE=DURATION:PT1H
X-Robots-Tag:noindex
X-PUBLISHED-TTL:PT1H
BEGIN:VTIMEZONE
TZID:Asia/Dili
BEGIN:STANDARD
TZOFFSETFROM:+0900
TZOFFSETTO:+0900
TZNAME:+09
DTSTART:20250101T000000
END:STANDARD
END:VTIMEZONE
BEGIN:VEVENT
DTSTART;TZID=Asia/Dili:20250405T090000
DTEND;TZID=Asia/Dili:20250405T180000
DTSTAMP:20260422T192902
CREATED:20250327T102200Z
LAST-MODIFIED:20250327T102402Z
UID:8033-1743843600-1743876000@qcfi.in
SUMMARY:Quality Circle Forum of India Chennai Chapter's 3rd Mini Convention on Quality Concepts (RAINBOW) 2025 on 5th (Saturday) April\, 2025
DESCRIPTION:This Mini Convention is a golden opportunity for organizations who desirous of Introducing/cultivating QC and Allied Concepts in their workplace. They can nominate delegates to witness and reap benefits out of benchmark presentations form top teams of eminent organizations. This will be surely quick way of cross learning and implementing best practices in their workplaces. \nQuality Circle Forum of India Chennai Chapter’s 3rd Mini Convention on Quality Concepts (RAINBOW) 2025\nDate: Saturday 5th April\, 2025\nVenue: VIT Chennai Campus Vandalur – Kelambakkam Road\, Chennai – 600127 Tamil Nadu \nView and Download Mini convention Brochure \nPlease send your nominations on or before 2nd April\, 2025 to\nQuality Circle Forum of India Chennai Chapter\nModule No.36 Second Floor\, Garment Complex\, Thiru Vi-Ka Industrial Estate\,\nGuindy\, Chennai – 600 032\nPhone: 044-22500622\nE-Mail: qcficcadmin@gmail.com \n  \n 
URL:https://qcfi.in/event/quality-circle-forum-of-india-chennai-chapters-3rd-mini-convention-on-quality-concepts-rainbow-2025-saturday-5th-april-2025/
ATTACH;FMTTYPE=image/png:https://qcfi.in/wp-content/uploads/2025/03/QCFI_Chennai_Chapter.png
END:VEVENT
END:VCALENDAR