BEGIN:VCALENDAR
VERSION:2.0
PRODID:-//QCFI | Quality Circle Forum of India | Quality Concepts - ECPv6.11.0//NONSGML v1.0//EN
CALSCALE:GREGORIAN
METHOD:PUBLISH
X-WR-CALNAME:QCFI | Quality Circle Forum of India | Quality Concepts
X-ORIGINAL-URL:https://qcfi.in
X-WR-CALDESC:Events for QCFI | Quality Circle Forum of India | Quality Concepts
REFRESH-INTERVAL;VALUE=DURATION:PT1H
X-Robots-Tag:noindex
X-PUBLISHED-TTL:PT1H
BEGIN:VTIMEZONE
TZID:Asia/Dili
BEGIN:STANDARD
TZOFFSETFROM:+0900
TZOFFSETTO:+0900
TZNAME:+09
DTSTART:20250101T000000
END:STANDARD
END:VTIMEZONE
BEGIN:VEVENT
DTSTART;TZID=Asia/Dili:20250424T080000
DTEND;TZID=Asia/Dili:20250426T170000
DTSTAMP:20260423T073912
CREATED:20250318T060945Z
LAST-MODIFIED:20250318T061330Z
UID:7901-1745481600-1745686800@qcfi.in
SUMMARY:International Conclave on Cement Industry (ICCI 2025) from 24 -26 APRIL 2025 at SAL Education Campus\, Ahmedabad
DESCRIPTION:The International Cement Conclave is dedicated to exploring the latest advancements\nand innovations in cement production and use. This year’s theme focuses on three\ncritical areas:\n• Sustainable Raw Materials: Discover new materials and methods that reduce\nenvironmental impact and enhance sustainability.\n• Cutting-Edge Technologies: Learn about the latest technological innovations that\nare revolutionizing cement production.\n• Efficient Supply Chains: Explore strategies to optimize supply chains\, reduce costs\,\nand increase efficiency. \nKeynote Speakers\nWe are honored to host several distinguished speakers who will share their expertise\nand vision for the future of the cement industry. Stay tuned for announcements about\nour keynote lineup. \nWorkshop & Sessions\nEngage in a variety of workshops and sessions designed to provide hands-on experience\nand in-depth knowledge on the topics of sustainability\, technology\, and supply chain\nmanagement. \nRegistrations Open @\nhttps://www.qcfiahd.org/ \nRegistration Contact @\n+91 97255 58778\niccia2025@gmail.com\nqcfiahmedabadchapter@gmail.com
URL:https://qcfi.in/event/international-conclave-on-cement-industry-icci-2025-from-24-26-april-2025-at-sal-education-campus-ahmedabad/
ATTACH;FMTTYPE=image/png:https://qcfi.in/wp-content/uploads/2025/03/Cement_Conclave.png
END:VEVENT
END:VCALENDAR