BEGIN:VCALENDAR
VERSION:2.0
PRODID:-//QCFI | Quality Circle Forum of India | Quality Concepts - ECPv6.11.0//NONSGML v1.0//EN
CALSCALE:GREGORIAN
METHOD:PUBLISH
X-ORIGINAL-URL:https://qcfi.in
X-WR-CALDESC:Events for QCFI | Quality Circle Forum of India | Quality Concepts
REFRESH-INTERVAL;VALUE=DURATION:PT1H
X-Robots-Tag:noindex
X-PUBLISHED-TTL:PT1H
BEGIN:VTIMEZONE
TZID:Asia/Dili
BEGIN:STANDARD
TZOFFSETFROM:+0900
TZOFFSETTO:+0900
TZNAME:+09
DTSTART:20250101T000000
END:STANDARD
END:VTIMEZONE
BEGIN:VEVENT
DTSTART;TZID=Asia/Dili:20250517T090000
DTEND;TZID=Asia/Dili:20250517T180000
DTSTAMP:20260423T132540
CREATED:20250411T065455Z
LAST-MODIFIED:20250411T065528Z
UID:8076-1747472400-1747504800@qcfi.in
SUMMARY:8th Conclave on Poka Yoke\, Jidoka & SMED by QCFI Bengaluru Chapter on 17th May 2025 at BNM Institute of Technology\, Bengaluru
DESCRIPTION:Quality Circle Forum of India\, Bengaluru Chapter proudly announces the 8th Conclave on Poka Yoke\, Jidoka & SMED to be conducted on 17th May\, 2025 from 09:00 to 1700 Hrs physically. This event will provide an opportunity to bring out the hidden talents of employees different organizations in the areas of P\, Q\, C\, D\, S\, M\, E and to share their experience in implementation of the above techniques and improvements. \n8th Conclave on Poka Yoke\, Jidoka & SMED by QCFI Bengaluru Chapter\nDate: 17th May 2025\nVenue: BNM Institute of Technology\, 12th Main Road\, 27th Cross\, Banashankari 2nd Stage\,\nBanashankari\, Bengaluru – 560070\, Karnataka \nView and download conclave brochure \nRegistration Fee\nRs 6000/- + GST @ 18% for a team of Two members. Organizations can nominate any number of teams for this event. If teams are not available\, nominations of individual as delegates are welcome. The fee per delegate is Rs 3000/- (Rupees Three thousand only) + GST @18% \nView and download conclave brochure \nFor any registration/clarification contact\nQuality Circle Forum of India – Bengaluru Chapter\nSri Giri R 72597 68721\nSri Smitha Venkatesh 94488 41500\nSri Manjunath H Shiragumpi 97409 00554\nSri Sudhakar Bagalkoti 98443 84343\nE-mail: qcfiblr@gmail.com
URL:https://qcfi.in/event/8th-conclave-on-poka-yoke-jidoka-smed-by-qcfi-bengaluru-chapter/
CATEGORIES:Chapter Events
ATTACH;FMTTYPE=image/png:https://qcfi.in/wp-content/uploads/2025/04/8th_conclave_Poka_yoke_QCFI_Bengaluru.png
END:VEVENT
END:VCALENDAR